BEGIN:VCALENDAR
VERSION:2.0
PRODID:spatie/icalendar-generator
DESCRIPTION:Events from Degarrin
X-WR-CALDESC:Events from Degarrin
REFRESH-INTERVAL;VALUE=DURATION:PT1440M
X-PUBLISHED-TTL:PT1440M
BEGIN:VTIMEZONE
TZID:America/Kentucky/Louisville
BEGIN:STANDARD
DTSTART:20231105T020000Z
TZOFFSETFROM:-0400
TZOFFSETTO:-0500
END:STANDARD
BEGIN:DAYLIGHT
DTSTART:20240310T020000Z
TZOFFSETFROM:-0500
TZOFFSETTO:-0400
END:DAYLIGHT
END:VTIMEZONE
BEGIN:VTIMEZONE
TZID:UTC
BEGIN:STANDARD
DTSTART:20250729T165242Z
TZOFFSETFROM:+0000
TZOFFSETTO:+0000
END:STANDARD
END:VTIMEZONE
BEGIN:VEVENT
UID:3212-3171
DTSTAMP:20260425T165242Z
SUMMARY:Presidents' Day
LOCATION:
ORGANIZER;CN=Public Submitter:MAILTO:
DTSTART;TZID=America/Kentucky/Louisville;VALUE=DATE:20240219
DTEND;TZID=America/Kentucky/Louisville;VALUE=DATE:20240220
X-ALT-DESC;FMTTYPE=TEXT/HTML:Visit https://calendarlabs.com/holidays/us/pre
 sidents-day.php to know more about Presidents' Day. Like us on Facebook: h
 ttp://fb.com/calendarlabs to get updates
CATEGORIES:Holiday
URL;VALUE=URI:https://www.degarrin.net/mc-events/presidents-day/
METHOD:PUBLISH
END:VEVENT
END:VCALENDAR